BEGIN:VCALENDAR
VERSION:2.0
PRODID:-//Spiritan Education Trust - ECPv4.9.6//NONSGML v1.0//EN
CALSCALE:GREGORIAN
METHOD:PUBLISH
X-WR-CALNAME:Spiritan Education Trust
X-ORIGINAL-URL:https://www.spiritaneducation.ie
X-WR-CALDESC:Events for Spiritan Education Trust
BEGIN:VTIMEZONE
TZID:"Europe/Dublin"
BEGIN:DAYLIGHT
TZOFFSETFROM:+0000
TZOFFSETTO:+0100
TZNAME:IST
DTSTART:20180325T010000
END:DAYLIGHT
BEGIN:STANDARD
TZOFFSETFROM:+0100
TZOFFSETTO:+0000
TZNAME:GMT
DTSTART:20181028T010000
END:STANDARD
END:VTIMEZONE
BEGIN:VEVENT
DTSTART;TZID="Europe/Dublin":20180426T130000
DTEND;TZID="Europe/Dublin":20180426T151500
DTSTAMP:20260421T151836
CREATED:20171110T112536Z
LAST-MODIFIED:20171110T112536Z
UID:891-1524747600-1524755700@www.spiritaneducation.ie
SUMMARY:Teachers Working Group on Ethos Meeting
DESCRIPTION:
URL:https://www.spiritaneducation.ie/event/teachers-working-group-ethos-meeting-2/
LOCATION:SET Office\, Kimmage
END:VEVENT
END:VCALENDAR