BEGIN:VCALENDAR
VERSION:2.0
PRODID:-//Spiritan Education Trust - ECPv4.9.6//NONSGML v1.0//EN
CALSCALE:GREGORIAN
METHOD:PUBLISH
X-WR-CALNAME:Spiritan Education Trust
X-ORIGINAL-URL:https://www.spiritaneducation.ie
X-WR-CALDESC:Events for Spiritan Education Trust
BEGIN:VTIMEZONE
TZID:"Europe/Dublin"
BEGIN:DAYLIGHT
TZOFFSETFROM:+0000
TZOFFSETTO:+0100
TZNAME:IST
DTSTART:20200329T010000
END:DAYLIGHT
BEGIN:STANDARD
TZOFFSETFROM:+0100
TZOFFSETTO:+0000
TZNAME:GMT
DTSTART:20201025T010000
END:STANDARD
END:VTIMEZONE
BEGIN:VEVENT
DTSTART;TZID="Europe/Dublin":20200120T090000
DTEND;TZID="Europe/Dublin":20200120T130000
DTSTAMP:20260421T033817
CREATED:20190521T140119Z
LAST-MODIFIED:20200107T141907Z
UID:1560-1579510800-1579525200@www.spiritaneducation.ie
SUMMARY:St. Michael's College Junior School Confirmation Retreat
DESCRIPTION:SET Retreat Team \n
URL:https://www.spiritaneducation.ie/event/st-michaels-college-junior-confirmation-retreat/2020-01-20/
LOCATION:Kimmage Manor\, Whitehall Rd. Dublin 12
END:VEVENT
END:VCALENDAR