BEGIN:VCALENDAR
VERSION:2.0
PRODID:-//Spiritan Education Trust - ECPv4.9.6//NONSGML v1.0//EN
CALSCALE:GREGORIAN
METHOD:PUBLISH
X-WR-CALNAME:Spiritan Education Trust
X-ORIGINAL-URL:https://www.spiritaneducation.ie
X-WR-CALDESC:Events for Spiritan Education Trust
BEGIN:VTIMEZONE
TZID:"Europe/Dublin"
BEGIN:DAYLIGHT
TZOFFSETFROM:+0000
TZOFFSETTO:+0100
TZNAME:IST
DTSTART:20180325T010000
END:DAYLIGHT
BEGIN:STANDARD
TZOFFSETFROM:+0100
TZOFFSETTO:+0000
TZNAME:GMT
DTSTART:20181028T010000
END:STANDARD
END:VTIMEZONE
BEGIN:VEVENT
DTSTART;VALUE=DATE:20180126
DTEND;VALUE=DATE:20180127
DTSTAMP:20260422T222250
CREATED:20171128T155127Z
LAST-MODIFIED:20171128T155127Z
UID:920-1516924800-1517011199@www.spiritaneducation.ie
SUMMARY:St. Mary's Confirmation Retreat Programme
DESCRIPTION:
URL:https://www.spiritaneducation.ie/event/st-marys-confirmation-retreat-programme-2/
LOCATION:Kimmage Manor\, Whitehall Rd. Dublin 12
END:VEVENT
END:VCALENDAR