BEGIN:VCALENDAR
VERSION:2.0
PRODID:-//Spiritan Education Trust - ECPv4.9.6//NONSGML v1.0//EN
CALSCALE:GREGORIAN
METHOD:PUBLISH
X-WR-CALNAME:Spiritan Education Trust
X-ORIGINAL-URL:https://www.spiritaneducation.ie
X-WR-CALDESC:Events for Spiritan Education Trust
BEGIN:VTIMEZONE
TZID:"Europe/Dublin"
BEGIN:DAYLIGHT
TZOFFSETFROM:+0000
TZOFFSETTO:+0100
TZNAME:IST
DTSTART:20180325T010000
END:DAYLIGHT
BEGIN:STANDARD
TZOFFSETFROM:+0100
TZOFFSETTO:+0000
TZNAME:GMT
DTSTART:20181028T010000
END:STANDARD
END:VTIMEZONE
BEGIN:VEVENT
DTSTART;VALUE=DATE:20180702
DTEND;VALUE=DATE:20180707
DTSTAMP:20260421T090616
CREATED:20180626T150840Z
LAST-MODIFIED:20180626T150840Z
UID:1238-1530489600-1530921599@www.spiritaneducation.ie
SUMMARY:Spiritan Provincial Chapter 2018
DESCRIPTION:
URL:https://www.spiritaneducation.ie/event/spiritan-provincial-chapter-2018/
LOCATION:The Emmaus Centre Ennis Lane Lissenhall Swords Co. Dublin\, Ennis Lane\, Lissenhall\, Swords\, Dublin\, Ireland
END:VEVENT
END:VCALENDAR