BEGIN:VCALENDAR
VERSION:2.0
PRODID:-//Spiritan Education Trust - ECPv4.9.6//NONSGML v1.0//EN
CALSCALE:GREGORIAN
METHOD:PUBLISH
X-WR-CALNAME:Spiritan Education Trust
X-ORIGINAL-URL:https://www.spiritaneducation.ie
X-WR-CALDESC:Events for Spiritan Education Trust
BEGIN:VTIMEZONE
TZID:"Europe/Dublin"
BEGIN:DAYLIGHT
TZOFFSETFROM:+0000
TZOFFSETTO:+0100
TZNAME:IST
DTSTART:20180325T010000
END:DAYLIGHT
BEGIN:STANDARD
TZOFFSETFROM:+0100
TZOFFSETTO:+0000
TZNAME:GMT
DTSTART:20181028T010000
END:STANDARD
END:VTIMEZONE
BEGIN:VEVENT
DTSTART;TZID="Europe/Dublin":20180411T133000
DTEND;TZID="Europe/Dublin":20180411T150000
DTSTAMP:20260421T214833
CREATED:20171128T160342Z
LAST-MODIFIED:20180327T133028Z
UID:939-1523453400-1523458800@www.spiritaneducation.ie
SUMMARY:SET Development Education Teacher Committee
DESCRIPTION:All queries please contact Grainne O’Neill. \n
URL:https://www.spiritaneducation.ie/event/set-teachers-ethos-working-group-2/
LOCATION:Kimmage Manor\, Whitehall Rd. Dublin 12
END:VEVENT
END:VCALENDAR