BEGIN:VCALENDAR
VERSION:2.0
PRODID:-//Spiritan Education Trust - ECPv4.9.6//NONSGML v1.0//EN
CALSCALE:GREGORIAN
METHOD:PUBLISH
X-WR-CALNAME:Spiritan Education Trust
X-ORIGINAL-URL:https://www.spiritaneducation.ie
X-WR-CALDESC:Events for Spiritan Education Trust
BEGIN:VTIMEZONE
TZID:"Europe/Dublin"
BEGIN:DAYLIGHT
TZOFFSETFROM:+0000
TZOFFSETTO:+0100
TZNAME:IST
DTSTART:20170326T010000
END:DAYLIGHT
BEGIN:STANDARD
TZOFFSETFROM:+0100
TZOFFSETTO:+0000
TZNAME:GMT
DTSTART:20171029T010000
END:STANDARD
BEGIN:DAYLIGHT
TZOFFSETFROM:+0000
TZOFFSETTO:+0100
TZNAME:IST
DTSTART:20180325T010000
END:DAYLIGHT
BEGIN:STANDARD
TZOFFSETFROM:+0100
TZOFFSETTO:+0000
TZNAME:GMT
DTSTART:20181028T010000
END:STANDARD
END:VTIMEZONE
BEGIN:VEVENT
DTSTART;VALUE=DATE:20171222
DTEND;VALUE=DATE:20180103
DTSTAMP:20260425T211631
CREATED:20171211T142250Z
LAST-MODIFIED:20171211T142250Z
UID:970-1513900800-1514937599@www.spiritaneducation.ie
SUMMARY:SET Office Closed
DESCRIPTION:
URL:https://www.spiritaneducation.ie/event/set-office-closed/
END:VEVENT
END:VCALENDAR