BEGIN:VCALENDAR
VERSION:2.0
PRODID:-//Spiritan Education Trust - ECPv4.9.6//NONSGML v1.0//EN
CALSCALE:GREGORIAN
METHOD:PUBLISH
X-WR-CALNAME:Spiritan Education Trust
X-ORIGINAL-URL:https://www.spiritaneducation.ie
X-WR-CALDESC:Events for Spiritan Education Trust
BEGIN:VTIMEZONE
TZID:"Europe/Dublin"
BEGIN:DAYLIGHT
TZOFFSETFROM:+0000
TZOFFSETTO:+0100
TZNAME:IST
DTSTART:20180325T010000
END:DAYLIGHT
BEGIN:STANDARD
TZOFFSETFROM:+0100
TZOFFSETTO:+0000
TZNAME:GMT
DTSTART:20181028T010000
END:STANDARD
END:VTIMEZONE
BEGIN:VEVENT
DTSTART;TZID="Europe/Dublin":20181119T180000
DTEND;TZID="Europe/Dublin":20181119T200000
DTSTAMP:20260420T115518
CREATED:20180411T144600Z
LAST-MODIFIED:20180411T144600Z
UID:1120-1542650400-1542657600@www.spiritaneducation.ie
SUMMARY:SET Board of Directors Meeting
DESCRIPTION:
URL:https://www.spiritaneducation.ie/event/set-board-of-directors-meeting-4/
LOCATION:SET Office\, Kimmage
END:VEVENT
END:VCALENDAR