BEGIN:VCALENDAR
VERSION:2.0
PRODID:-//Spiritan Education Trust - ECPv4.9.6//NONSGML v1.0//EN
CALSCALE:GREGORIAN
METHOD:PUBLISH
X-WR-CALNAME:Spiritan Education Trust
X-ORIGINAL-URL:https://www.spiritaneducation.ie
X-WR-CALDESC:Events for Spiritan Education Trust
BEGIN:VTIMEZONE
TZID:"Europe/Dublin"
BEGIN:DAYLIGHT
TZOFFSETFROM:+0000
TZOFFSETTO:+0100
TZNAME:IST
DTSTART:20180325T010000
END:DAYLIGHT
BEGIN:STANDARD
TZOFFSETFROM:+0100
TZOFFSETTO:+0000
TZNAME:GMT
DTSTART:20181028T010000
END:STANDARD
END:VTIMEZONE
BEGIN:VEVENT
DTSTART;TZID="Europe/Dublin":20181025T080000
DTEND;TZID="Europe/Dublin":20181028T170000
DTSTAMP:20260420T163601
CREATED:20180619T125718Z
LAST-MODIFIED:20180619T125718Z
UID:1225-1540454400-1540746000@www.spiritaneducation.ie
SUMMARY:Paris Pilgrimage
DESCRIPTION:
URL:https://www.spiritaneducation.ie/event/paris-pilgrimage/
LOCATION:Paris\, France
END:VEVENT
END:VCALENDAR