BEGIN:VCALENDAR
VERSION:2.0
PRODID:-//Spiritan Education Trust - ECPv4.9.6//NONSGML v1.0//EN
CALSCALE:GREGORIAN
METHOD:PUBLISH
X-WR-CALNAME:Spiritan Education Trust
X-ORIGINAL-URL:https://www.spiritaneducation.ie
X-WR-CALDESC:Events for Spiritan Education Trust
BEGIN:VTIMEZONE
TZID:"Europe/Dublin"
BEGIN:DAYLIGHT
TZOFFSETFROM:+0000
TZOFFSETTO:+0100
TZNAME:IST
DTSTART:20170326T010000
END:DAYLIGHT
BEGIN:STANDARD
TZOFFSETFROM:+0100
TZOFFSETTO:+0000
TZNAME:GMT
DTSTART:20171029T010000
END:STANDARD
END:VTIMEZONE
BEGIN:VEVENT
DTSTART;TZID="Europe/Dublin":20171211T160000
DTEND;TZID="Europe/Dublin":20171211T180000
DTSTAMP:20260425T225326
CREATED:20171211T141216Z
LAST-MODIFIED:20171211T141216Z
UID:962-1513008000-1513015200@www.spiritaneducation.ie
SUMMARY:Ethos subcommittee
DESCRIPTION:
URL:https://www.spiritaneducation.ie/event/ethos-subcommittee/
LOCATION:Kimmage Manor\, Whitehall Rd. Dublin 12
END:VEVENT
END:VCALENDAR