BEGIN:VCALENDAR
VERSION:2.0
PRODID:-//Spiritan Education Trust - ECPv4.9.6//NONSGML v1.0//EN
CALSCALE:GREGORIAN
METHOD:PUBLISH
X-WR-CALNAME:Spiritan Education Trust
X-ORIGINAL-URL:https://www.spiritaneducation.ie
X-WR-CALDESC:Events for Spiritan Education Trust
BEGIN:VTIMEZONE
TZID:"Europe/Dublin"
BEGIN:DAYLIGHT
TZOFFSETFROM:+0000
TZOFFSETTO:+0100
TZNAME:IST
DTSTART:20190331T010000
END:DAYLIGHT
BEGIN:STANDARD
TZOFFSETFROM:+0100
TZOFFSETTO:+0000
TZNAME:GMT
DTSTART:20191027T010000
END:STANDARD
END:VTIMEZONE
BEGIN:VEVENT
DTSTART;VALUE=DATE:20191107
DTEND;VALUE=DATE:20191109
DTSTAMP:20260421T061936
CREATED:20190730T101519Z
LAST-MODIFIED:20190730T101519Z
UID:1629-1573084800-1573257599@www.spiritaneducation.ie
SUMMARY:Deputy Principals Conference - Bloomfield Hotel\, Mullingar
DESCRIPTION:
URL:https://www.spiritaneducation.ie/event/deputy-principals-conference-bloomfield-hotel-mullingar/
LOCATION:Bloomfield House Hotel\, Belvidere\, Mullingar\, Co. Westmeath
END:VEVENT
END:VCALENDAR