BEGIN:VCALENDAR
VERSION:2.0
PRODID:-//Spiritan Education Trust - ECPv4.9.6//NONSGML v1.0//EN
CALSCALE:GREGORIAN
METHOD:PUBLISH
X-WR-CALNAME:Spiritan Education Trust
X-ORIGINAL-URL:https://www.spiritaneducation.ie
X-WR-CALDESC:Events for Spiritan Education Trust
BEGIN:VTIMEZONE
TZID:"Europe/Dublin"
BEGIN:DAYLIGHT
TZOFFSETFROM:+0000
TZOFFSETTO:+0100
TZNAME:IST
DTSTART:20180325T010000
END:DAYLIGHT
BEGIN:STANDARD
TZOFFSETFROM:+0100
TZOFFSETTO:+0000
TZNAME:GMT
DTSTART:20181028T010000
END:STANDARD
END:VTIMEZONE
BEGIN:VEVENT
DTSTART;TZID="Europe/Dublin":20180418T090000
DTEND;TZID="Europe/Dublin":20180418T133000
DTSTAMP:20260421T182317
CREATED:20180327T132703Z
LAST-MODIFIED:20180327T132703Z
UID:1091-1524042000-1524058200@www.spiritaneducation.ie
SUMMARY:Chaplaincy Reflection Day
DESCRIPTION:A day for all school chaplains will take place on April 18th in Kimmage. Sean Goan from the Spiritan Mission Animation office will lead the day. The day will start@9.30am \nAll queries to ronan.barry@spiritaneducation.ie \n
URL:https://www.spiritaneducation.ie/event/chaplaincy-reflection-day/
END:VEVENT
END:VCALENDAR