BEGIN:VCALENDAR
VERSION:2.0
PRODID:-//Spiritan Education Trust - ECPv4.9.6//NONSGML v1.0//EN
CALSCALE:GREGORIAN
METHOD:PUBLISH
X-WR-CALNAME:Spiritan Education Trust
X-ORIGINAL-URL:https://www.spiritaneducation.ie
X-WR-CALDESC:Events for Spiritan Education Trust
BEGIN:VTIMEZONE
TZID:"Europe/Dublin"
BEGIN:DAYLIGHT
TZOFFSETFROM:+0000
TZOFFSETTO:+0100
TZNAME:IST
DTSTART:20250330T010000
END:DAYLIGHT
BEGIN:STANDARD
TZOFFSETFROM:+0100
TZOFFSETTO:+0000
TZNAME:GMT
DTSTART:20251026T010000
END:STANDARD
END:VTIMEZONE
BEGIN:VEVENT
DTSTART;TZID="Europe/Dublin":20250319T140000
DTEND;TZID="Europe/Dublin":20250319T160000
DTSTAMP:20260422T200336
CREATED:20250218T102202Z
LAST-MODIFIED:20250218T102202Z
UID:3033-1742392800-1742400000@www.spiritaneducation.ie
SUMMARY:An afternoon of Retreat/Reflection for School Teachers\, Staff & Chaplains
DESCRIPTION:As part of our celebrations for the Jubilee Year of Hope as ‘Pilgrims of Hope’ we at Spiritan Education Trust along with the joint Trustees would like to extend an invitation to all your School Teachers\, Staff & Chaplains to join us as Pilgrims on The “Kim-Mino”\, as part of their own\, personal Lenten preparation for Easter. It is an afternoon spent in pilgrimage\, prayer/reflection on the grounds of the Spiritan Fathers home in Kimmage Manor\, Whitehall Road\, Dublin 12. D12 WP44. Please share and pass on this invitation. \nYou will be guided along ‘moments of pause’\, spending time reflecting on scripture as we journey. The time together will be taking place both indoors and outdoors from 2pm—4pm on Wednesday\, March 19th\, 2025\, so it is essential that you wear appropriate clothing.  \nPilgrimage is about encounter\, reflection\, building community\, sharing quiet time\, and food. Each Pilgrim is asked to bring something small – food to share with others. Tea / Coffee will be provided. The cost for the afternoon together is your time and your companionship. \nIf you would like to join us\, please contact:\n          Frank Brown at                      frank.brown@spiritaneducation.ie\nOr     Sr Concepta Foley                  concepta.foley@dublindiocese.ie\nOr     Kathleen Fitzpatrick              kfitzpatrick@loretoeducationcentre.ie\nOr     Claire Kilroy                              claire@lecheiletrust.ie  \nThe number of Pilgrims is restricted to 30 to allow all involved to benefit from the day. So please register your interest early\, before Monday 25th November\nWe look forward to hearing from you soon. \n \n
URL:https://www.spiritaneducation.ie/event/an-afternoon-of-retreat-reflection-for-school-teachers-staff-chaplains/
LOCATION:SET Office\, Kimmage
END:VEVENT
END:VCALENDAR