BEGIN:VCALENDAR
VERSION:2.0
PRODID:-//Spiritan Education Trust - ECPv4.9.6//NONSGML v1.0//EN
CALSCALE:GREGORIAN
METHOD:PUBLISH
X-WR-CALNAME:Spiritan Education Trust
X-ORIGINAL-URL:https://www.spiritaneducation.ie
X-WR-CALDESC:Events for Spiritan Education Trust
BEGIN:VTIMEZONE
TZID:"Europe/Dublin"
BEGIN:DAYLIGHT
TZOFFSETFROM:+0000
TZOFFSETTO:+0100
TZNAME:IST
DTSTART:20250330T010000
END:DAYLIGHT
BEGIN:STANDARD
TZOFFSETFROM:+0100
TZOFFSETTO:+0000
TZNAME:GMT
DTSTART:20251026T010000
END:STANDARD
END:VTIMEZONE
BEGIN:VEVENT
DTSTART;TZID="Europe/Dublin":20250211T083000
DTEND;TZID="Europe/Dublin":20250211T133000
DTSTAMP:20260421T140023
CREATED:20241219T130305Z
LAST-MODIFIED:20241219T130305Z
UID:2990-1739262600-1739280600@www.spiritaneducation.ie
SUMMARY:St Mary's Junior Confirmation Retreats
DESCRIPTION:The focus will be on “The Gifts they Bring\, The Gifts they Receive and the Gifts they Are! ”\nThe scriptural focus taken from Acts 2: 1 -4 – The Pentecost story &\nMatthew 5:14-16 – “Don’t hide your Light” \n
URL:https://www.spiritaneducation.ie/event/st-marys-junior-confirmation-retreats/2025-02-11/
END:VEVENT
END:VCALENDAR